Workbook

Sheet Welcome to MoneyMastery®
A1: MoneyMastery
A2: Welcome!
A3: MoneyMastery® is a collection of business planning tools specifically designed to help you develop the business of your dreams under the watchful eye and empowering guidance of your business coach! Here's a list of the planning tools you'll be using as you implement the 21 Silver Bullets in your business:
B4: Date Completed:
A5: Fixed Cost Schedule A list of all those "fixed" costs, the costs that don't change from month to month based on sales volume.
A6: Revenue and Profit Budget A standard budget with revenue, gross margins, fixed costs and rolling cash position automatically calculated, net of balance sheet items such as investments, debt reduction, and cash in/out.
A7: Profit Equation by Month The most powerful system for increasing your business profits ever designed!
A8: Tactical Marketing Plan Choose the marketing tactics you'll use to grow your business profits by increasing your leads, conversion rate, and revenue per customer.
A9: Sales Management System Require your sales people to report their activity on a weekly basis: leads generated, new customers, conversion rate, revenue collected, and revenue/customer.
A10: Employee BE by Week Never waste money on unproductive payroll again! Calculate the level of productivity you need from your people to make a profit on your payroll investment.
A11: Marketing Campaign BE Calculate how many sales you'll need to convert to break even on a marketing campaign BEFORE you spend the money.
A12: Price Increase BE Calculate how much you can afford to raise your prices without losing so many customers that you lose money.
A13: Price Decrease BE Calculate how many more sales you'll need to create to compensate for discounting your pricess.
A15: Copyright © Life2Live, LLC. 2005 to Present. All Rights Reserved. No part of this document may be used, displayed or reproduced without the consent of the author.

Sheet Fixed Cost
A1: Fixed Cost Schedule
B3: January | C3: February | D3: March | E3: April | F3: May | G3: June | H3: July | I3: August | J3: September | K3: October | L3: November | M3: December
A5: Accounting services | B5: 200 | C5: 200 | D5: 200 | E5: 200 | F5: 200 | G5: 200 | H5: 200 | I5: 200 | J5: 200 | K5: 200 | L5: 200 | M5: 200
A6: Advertising expense | B6: 1000 | C6: 1000 | D6: 1000 | E6: 1000 | F6: 1000 | G6: 1000 | H6: 1000 | I6: 1000 | J6: 1000 | K6: 1000 | L6: 1000 | M6: 1000
A7: Business coaching | B7: 1750 | C7: 1750 | D7: 1750 | E7: 1750 | F7: 1750 | G7: 1750 | H7: 1750 | I7: 1750 | J7: 1750 | K7: 1750 | L7: 1750 | M7: 1750
A8: IT support services | B8: 500 | C8: 500 | D8: 500 | E8: 500 | F8: 500 | G8: 500 | H8: 500 | I8: 500 | J8: 500 | K8: 500 | L8: 500 | M8: 500
A9: Lease - phone equipment | B9: 250 | C9: 250 | D9: 250 | E9: 250 | F9: 250 | G9: 250 | H9: 250 | I9: 250 | J9: 250 | K9: 250 | L9: 250 | M9: 250
A10: Lease - server | B10: 500 | C10: 500 | D10: 500 | E10: 500 | F10: 500 | G10: 500 | H10: 500 | I10: 500 | J10: 500 | K10: 500 | L10: 500 | M10: 500
A11: Legal fees | B11: 100 | C11: 100 | D11: 100 | E11: 100 | F11: 100 | G11: 100 | H11: 100 | I11: 100 | J11: 100 | K11: 100 | L11: 100 | M11: 100
A12: Marketing | B12: 2400 | C12: 2400 | D12: 2400 | E12: 2400 | F12: 2400 | G12: 2400 | H12: 2400 | I12: 2400 | J12: 2400 | K12: 2400 | L12: 2400 | M12: 2400
A13: Payroll - admin | B13: 6475 | C13: 6475 | D13: 6475 | E13: 6475 | F13: 6475 | G13: 6475 | H13: 6475 | I13: 6475 | J13: 6475 | K13: 6475 | L13: 6475 | M13: 6475
A14: Payroll - owner salary | B14: 5000 | C14: 5000 | D14: 5000 | E14: 5000 | F14: 5000 | G14: 5000 | H14: 5000 | I14: 5000 | J14: 5000 | K14: 5000 | L14: 5000 | M14: 5000
A15: Payroll expense | B15: 500 | C15: 500 | D15: 500 | E15: 500 | F15: 500 | G15: 500 | H15: 500 | I15: 500 | J15: 500 | K15: 500 | L15: 500 | M15: 500
A16: Phone charges | B16: 250 | C16: 250 | D16: 250 | E16: 250 | F16: 250 | G16: 250 | H16: 250 | I16: 250 | J16: 250 | K16: 250 | L16: 250 | M16: 250
... A19: Web site hosting | B19: 75 | C19: 75 | D19: 75 | E19: 75 | F19: 75 | G19: 75 | H19: 75 | I19: 75 | J19: 75 | K19: 75 | L19: 75 | M19: 75
A25: Fixed Costs | B25: =SUM(B5:B24) -> 20000 | C25: =SUM(C5:C24) -> 20000 | D25: =SUM(D5:D24) -> 20000 | E25: =SUM(E5:E24) -> 20000 | F25: =SUM(F5:F24) -> 20000 | G25: =SUM(G5:G24) -> 20000 | H25: =SUM(H5:H24) -> 20000 | I25: =SUM(I5:I24) -> 20000 | ... M25: =SUM(M5:M24) -> 20000
A27: Notes:
A28: Fill in shaded areas only
A29: Variable expenses not included

Sheet Revenue _ Profit Budget _RPB_
A1: Revenue and Profit Budget
B3: January | C3: February | D3: March | E3: April | F3: May | G3: June | H3: July | I3: August | J3: September | K3: October | L3: November | M3: December
A4: Revenues | B4: 100000 | C4: 75000 | D4: 50000 | E4: 75000 | F4: 100000 | G4: 100000 | H4: 110000 | I4: 110000 | J4: 110000 | K4: 120000 | L4: 120000 | M4: 120000
A5: Gross Margin | B5: 0.25 | C5: 0.25 | D5: 0.25 | E5: 0.25 | F5: 0.25 | G5: 0.25 | H5: 0.3 | I5: 0.3 | J5: 0.3 | K5: 0.35 | L5: 0.35 | M5: 0.35
A6: Gross Profit | B6: =B4*B5 -> 25000 | C6: =C4*C5 -> 18750 | D6: =D4*D5 -> 12500 | E6: =E4*E5 -> 18750 | F6: =F4*F5 -> 25000 | G6: =G4*G5 -> 25000 | H6: =H4*H5 -> 33000 | I6: =I4*I5 -> 33000 | ... M6: =M4*M5 -> 42000
A8: Fixed Costs
A9: ='Fixed Cost'!A5 -> Accounting services | B9: ='Fixed Cost'!B5 -> 200 | C9: ='Fixed Cost'!C5 -> 200 | D9: ='Fixed Cost'!D5 -> 200 | E9: ='Fixed Cost'!E5 -> 200 | F9: ='Fixed Cost'!F5 -> 200 | G9: ='Fixed Cost'!G5 -> 200 | H9: ='Fixed Cost'!H5 -> 200 | ... M9: ='Fixed Cost'!M5 -> 200
A10: ='Fixed Cost'!A6 -> Advertising expense | B10: ='Fixed Cost'!B6 -> 1000 | C10: ='Fixed Cost'!C6 -> 1000 | D10: ='Fixed Cost'!D6 -> 1000 | E10: ='Fixed Cost'!E6 -> 1000 | F10: ='Fixed Cost'!F6 -> 1000 | G10: ='Fixed Cost'!G6 -> 1000 | H10: ='Fixed Cost'!H6 -> 1000 | ... M10: ='Fixed Cost'!M6 -> 1000
A11: ='Fixed Cost'!A7 -> Business coaching | B11: ='Fixed Cost'!B7 -> 1750 | C11: ='Fixed Cost'!C7 -> 1750 | D11: ='Fixed Cost'!D7 -> 1750 | E11: ='Fixed Cost'!E7 -> 1750 | F11: ='Fixed Cost'!F7 -> 1750 | G11: ='Fixed Cost'!G7 -> 1750 | H11: ='Fixed Cost'!H7 -> 1750 | ... M11: ='Fixed Cost'!M7 -> 1750
A12: ='Fixed Cost'!A8 -> IT support services | B12: ='Fixed Cost'!B8 -> 500 | C12: ='Fixed Cost'!C8 -> 500 | D12: ='Fixed Cost'!D8 -> 500 | E12: ='Fixed Cost'!E8 -> 500 | F12: ='Fixed Cost'!F8 -> 500 | G12: ='Fixed Cost'!G8 -> 500 | H12: ='Fixed Cost'!H8 -> 500 | ... M12: ='Fixed Cost'!M8 -> 500
A13: ='Fixed Cost'!A9 -> Lease - phone equipment | B13: ='Fixed Cost'!B9 -> 250 | C13: ='Fixed Cost'!C9 -> 250 | D13: ='Fixed Cost'!D9 -> 250 | E13: ='Fixed Cost'!E9 -> 250 | F13: ='Fixed Cost'!F9 -> 250 | G13: ='Fixed Cost'!G9 -> 250 | H13: ='Fixed Cost'!H9 -> 250 | ... M13: ='Fixed Cost'!M9 -> 250
A14: ='Fixed Cost'!A10 -> Lease - server | B14: ='Fixed Cost'!B10 -> 500 | C14: ='Fixed Cost'!C10 -> 500 | D14: ='Fixed Cost'!D10 -> 500 | E14: ='Fixed Cost'!E10 -> 500 | F14: ='Fixed Cost'!F10 -> 500 | G14: ='Fixed Cost'!G10 -> 500 | H14: ='Fixed Cost'!H10 -> 500 | ... M14: ='Fixed Cost'!M10 -> 500
A15: ='Fixed Cost'!A11 -> Legal fees | B15: ='Fixed Cost'!B11 -> 100 | C15: ='Fixed Cost'!C11 -> 100 | D15: ='Fixed Cost'!D11 -> 100 | E15: ='Fixed Cost'!E11 -> 100 | F15: ='Fixed Cost'!F11 -> 100 | G15: ='Fixed Cost'!G11 -> 100 | H15: ='Fixed Cost'!H11 -> 100 | ... M15: ='Fixed Cost'!M11 -> 100
A16: ='Fixed Cost'!A12 -> Marketing | B16: ='Fixed Cost'!B12 -> 2400 | C16: ='Fixed Cost'!C12 -> 2400 | D16: ='Fixed Cost'!D12 -> 2400 | E16: ='Fixed Cost'!E12 -> 2400 | F16: ='Fixed Cost'!F12 -> 2400 | G16: ='Fixed Cost'!G12 -> 2400 | H16: ='Fixed Cost'!H12 -> 2400 | ... M16: ='Fixed Cost'!M12 -> 2400
A17: ='Fixed Cost'!A13 -> Payroll - admin | B17: ='Fixed Cost'!B13 -> 6475 | C17: ='Fixed Cost'!C13 -> 6475 | D17: ='Fixed Cost'!D13 -> 6475 | E17: ='Fixed Cost'!E13 -> 6475 | F17: ='Fixed Cost'!F13 -> 6475 | G17: ='Fixed Cost'!G13 -> 6475 | H17: ='Fixed Cost'!H13 -> 6475 | ... M17: ='Fixed Cost'!M13 -> 6475
A18: ='Fixed Cost'!A14 -> Payroll - owner salary | B18: ='Fixed Cost'!B14 -> 5000 | C18: ='Fixed Cost'!C14 -> 5000 | D18: ='Fixed Cost'!D14 -> 5000 | E18: ='Fixed Cost'!E14 -> 5000 | F18: ='Fixed Cost'!F14 -> 5000 | G18: ='Fixed Cost'!G14 -> 5000 | H18: ='Fixed Cost'!H14 -> 5000 | ... M18: ='Fixed Cost'!M14 -> 5000
A19: ='Fixed Cost'!A15 -> Payroll expense | B19: ='Fixed Cost'!B15 -> 500 | C19: ='Fixed Cost'!C15 -> 500 | D19: ='Fixed Cost'!D15 -> 500 | E19: ='Fixed Cost'!E15 -> 500 | F19: ='Fixed Cost'!F15 -> 500 | G19: ='Fixed Cost'!G15 -> 500 | H19: ='Fixed Cost'!H15 -> 500 | ... M19: ='Fixed Cost'!M15 -> 500
A20: ='Fixed Cost'!A16 -> Phone charges | B20: ='Fixed Cost'!B16 -> 250 | C20: ='Fixed Cost'!C16 -> 250 | D20: ='Fixed Cost'!D16 -> 250 | E20: ='Fixed Cost'!E16 -> 250 | F20: ='Fixed Cost'!F16 -> 250 | G20: ='Fixed Cost'!G16 -> 250 | H20: ='Fixed Cost'!H16 -> 250 | ... M20: ='Fixed Cost'!M16 -> 250
... A28: ='Fixed Cost'!A24 | B28: ='Fixed Cost'!B24 | C28: ='Fixed Cost'!C24 | D28: ='Fixed Cost'!D24 | E28: ='Fixed Cost'!E24 | F28: ='Fixed Cost'!F24 | G28: ='Fixed Cost'!G24 | H28: ='Fixed Cost'!H24 | ... M28: ='Fixed Cost'!M24
A29: Total Fixed Costs | B29: =SUM(B9:B28) -> 20000 | C29: =SUM(C9:C28) -> 20000 | D29: =SUM(D9:D28) -> 20000 | E29: =SUM(E9:E28) -> 20000 | F29: =SUM(F9:F28) -> 20000 | G29: =SUM(G9:G28) -> 20000 | H29: =SUM(H9:H28) -> 20000 | I29: =SUM(I9:I28) -> 20000 | ... M29: =SUM(M9:M28) -> 20000
A30: Net Profit | B30: =B6-B29 -> 5000 | C30: =C6-C29 -> -1250 | D30: =D6-D29 -> -7500 | E30: =E6-E29 -> -1250 | F30: =F6-F29 -> 5000 | G30: =G6-G29 -> 5000 | H30: =H6-H29 -> 13000 | I30: =I6-I29 -> 13000 | ... M30: =M6-M29 -> 22000
A32: Balance Sheet Items
A33: Investments | B33: 0 | C33: 0 | D33: 0 | E33: 0 | F33: 0 | G33: 0 | H33: 10000 | I33: 0 | J33: 0 | K33: 0 | L33: 0 | M33: 0
A34: Debt reduction | B34: 0 | C34: 0 | D34: 0 | E34: 0 | F34: 0 | G34: 0 | H34: 0 | I34: 12500 | J34: 0 | K34: 0 | L34: 0 | M34: 0
A35: Cash in/(out) | B35: 0 | C35: 0 | D35: 0 | E35: 7500 | F35: 0 | G35: 0 | H35: 0 | I35: 0 | J35: 15000 | K35: 15000 | L35: 15000 | M35: 15000
A36: Other | B36: 0 | C36: 0 | D36: 0 | E36: 0 | F36: -5000 | G36: 0 | H36: 0 | I36: 0 | J36: 0 | K36: 0 | L36: 0 | M36: 0
A37: Total Balance Sheet Items | B37: =-B33+B34+B35+B36 -> 0 | C37: =-C33+C34+C35+C36 -> 0 | D37: =-D33+D34+D35+D36 -> 0 | E37: =-E33+E34+E35+E36 -> 7500 | F37: =-F33+F34+F35+F36 -> -5000 | G37: =-G33+G34+G35+G36 -> 0 | H37: =-H33+H34+H35+H36 -> -10000 | I37: =-I33+I34+I35+I36 -> 12500 | ... M37: =-M33+M34+M35+M36 -> 15000
A39: Net Cash | B39: =B30+B37 -> 5000 | C39: =C30+C37 -> -1250 | D39: =D30+D37 -> -7500 | E39: =E30+E37 -> 6250 | F39: =F30+F37 -> 0 | G39: =G30+G37 -> 5000 | H39: =H30+H37 -> 3000 | I39: =I30+I37 -> 25500 | ... M39: =M30+M37 -> 37000
A40: Cash Position | B40: =B41+B39 -> 10000 | C40: =B40+C39 -> 8750 | D40: =C40+D39 -> 1250 | E40: =D40+E39 -> 7500 | F40: =E40+F39 -> 7500 | G40: =F40+G39 -> 12500 | H40: =G40+H39 -> 15500 | I40: =H40+I39 -> 41000 | J40: =I40+J39 -> 69000 | ... M40: =L40+M39 -> 180000
A41: Starting Working Capital | B41: 5000
A43: Notes:
A44: Fill in shaded areas only
A45: Variable expenses included in Gross Margin calculation

Sheet Profit Equation by Month
A1: Profit Equation by Month
B3: January | C3: February | D3: March | E3: April | F3: May | G3: June | H3: July | I3: August | J3: September | K3: October | L3: November | M3: December | N3: TOTAL
A5: Leads Generated | B5: 150 | C5: 165 | D5: 180 | E5: 195 | F5: 210 | G5: 225 | H5: 240 | I5: 255 | J5: 270 | K5: 285 | L5: 300 | M5: 315 | N5: =SUM(B5:M5) -> 2790
A6: X
A7: Conversion Rate | B7: 0.05 | C7: 0.075 | D7: 0.1 | E7: 0.125 | F7: 0.15 | G7: 0.175 | H7: 0.2 | I7: 0.225 | J7: 0.25 | K7: 0.275 | L7: 0.3 | M7: 0.325 | N7: =AVERAGE(B7:M7) -> 0.1875
A8: =
A9: New Customers | B9: =B5*B7 -> 7.5 | C9: =C5*C7 -> 12.375 | D9: =D5*D7 -> 18 | E9: =E5*E7 -> 24.375 | F9: =F5*F7 -> 31.5 | G9: =G5*G7 -> 39.375 | H9: =H5*H7 -> 48 | I9: =I5*I7 -> 57.375 | ... N9: =N5*N7 -> 523.125
A10: +
A11: Retained Customers | B11: 50 | C11: =B13 -> 57.5 | D11: =C13 -> 69.875 | E11: =D13 -> 87.875 | F11: =E13 -> 112.25 | G11: =F13 -> 143.75 | H11: =G13 -> 183.125 | I11: =H13 -> 231.125 | J11: =I13 -> 288.5 | ... M11: =L13 -> 524.375 | N11: =AVERAGE(B11:M11) -> 211.5625
A12: =
A13: Customers | B13: =SUM(B9:B11) -> 57.5 | C13: =SUM(C9:C11) -> 69.875 | D13: =SUM(D9:D11) -> 87.875 | E13: =SUM(E9:E11) -> 112.25 | F13: =SUM(F9:F11) -> 143.75 | G13: =SUM(G9:G11) -> 183.125 | H13: =SUM(H9:H11) -> 231.125 | I13: =SUM(I9:I11) -> 288.5 | ... N13: =SUM(N9:N11) -> 734.6875
A14: X
A15: Revenue/Customer | B15: 500 | C15: 505 | D15: 510 | E15: 515 | F15: 520 | G15: 525 | H15: 530 | I15: 535 | J15: 540 | K15: 545 | L15: 550 | M15: 555 | N15: =AVERAGE(B15:M15) -> 527.5
A16: =
A17: Revenues | B17: =B13*B15 -> 28750 | C17: =C13*C15 -> 35286.875 | D17: =D13*D15 -> 44816.25 | E17: =E13*E15 -> 57808.75 | F17: =F13*F15 -> 74750 | G17: =G13*G15 -> 96140.625 | H17: =H13*H15 -> 122496.25 | I17: =I13*I15 -> 154347.5 | ... M17: =M13*M15 -> 347846.25 | N17: =SUM(B17:M17) -> 1679623.1
A18: X
A19: Gross Margin | B19: 0.4 | C19: 0.41 | D19: 0.42 | E19: 0.43 | F19: 0.44 | G19: 0.45 | H19: 0.46 | I19: 0.47 | J19: 0.48 | K19: 0.49 | L19: 0.5 | M19: 0.51 | N19: =AVERAGE(B19:M19) -> 0.455
A20: =
A21: Gross Profit | B21: =B17*B19 -> 11500 | C21: =C17*C19 -> 14467.619 | D21: =D17*D19 -> 18822.825 | E21: =E17*E19 -> 24857.763 | F21: =F17*F19 -> 32890 | G21: =G17*G19 -> 43263.281 | H21: =H17*H19 -> 56348.275 | I21: =I17*I19 -> 72543.325 | ... N21: =N17*N19 -> 764228.52
A22: -
A23: Fixed Costs | B23: ='Fixed Cost'!B$25 -> 20000 | C23: ='Fixed Cost'!C$25 -> 20000 | D23: ='Fixed Cost'!D$25 -> 20000 | E23: ='Fixed Cost'!E$25 -> 20000 | F23: ='Fixed Cost'!F$25 -> 20000 | G23: ='Fixed Cost'!G$25 -> 20000 | H23: ='Fixed Cost'!H$25 -> 20000 | I23: ='Fixed Cost'!I$25 -> 20000 | ... M23: ='Fixed Cost'!M$25 -> 20000 | N23: =SUM(B23:M23) -> 240000
A24: =
A25: Net Profit | B25: =B21-B23 -> -8500 | C25: =C21-C23 -> -5532.3813 | D25: =D21-D23 -> -1177.175 | E25: =E21-E23 -> 4857.7625 | F25: =F21-F23 -> 12890 | G25: =G21-G23 -> 23263.281 | H25: =H21-H23 -> 36348.275 | I25: =I21-I23 -> 52543.325 | ... N25: =N21-N23 -> 524228.52
A27: Balance Sheet Items
A28: Investments | B28: 0 | C28: 0 | D28: 0 | E28: 0 | F28: 0 | G28: 0 | H28: -10000 | I28: 0 | J28: 0 | K28: 0 | L28: 0 | M28: 0
A29: Debt reduction | B29: 0 | C29: 0 | D29: 0 | E29: 0 | F29: 0 | G29: 0 | H29: 0 | I29: -12500 | J29: 0 | K29: 0 | L29: 0 | M29: 0
A30: Cash (in)/out | B30: 0 | C30: 0 | D30: 0 | E30: 7500 | F30: 0 | G30: 0 | H30: 0 | I30: 0 | J30: -15000 | K30: -15000 | L30: -15000 | M30: -15000
A31: Other | B31: 0 | C31: 0 | D31: 0 | E31: 0 | F31: 0 | G31: 0 | H31: 0 | I31: 0 | J31: 0 | K31: 0 | L31: 0 | M31: 0
A32: Total Balance Sheet Items | B32: =-B28+B29+B30+B31 -> 0 | C32: =-C28+C29+C30+C31 -> 0 | D32: =-D28+D29+D30+D31 -> 0 | E32: =-E28+E29+E30+E31 -> 7500 | F32: =-F28+F29+F30+F31 -> 0 | G32: =-G28+G29+G30+G31 -> 0 | H32: =-H28+H29+H30+H31 -> 10000 | I32: =-I28+I29+I30+I31 -> -12500 | ... M32: =-M28+M29+M30+M31 -> -15000
A34: Net Cash | B34: =B25+B32 -> -8500 | C34: =C25+C32 -> -5532.3813 | D34: =D25+D32 -> -1177.175 | E34: =E25+E32 -> 12357.763 | F34: =F25+F32 -> 12890 | G34: =G25+G32 -> 23263.281 | H34: =H25+H32 -> 46348.275 | I34: =I25+I32 -> 40043.325 | ... M34: =M25+M32 -> 142401.59
A35: Cash Position | B35: =B36+B34 -> -3500 | C35: =B35+C34 -> -9032.3813 | D35: =C35+D34 -> -10209.556 | E35: =D35+E34 -> 2148.2063 | F35: =E35+F34 -> 15038.206 | G35: =F35+G34 -> 38301.488 | H35: =G35+H34 -> 84649.763 | I35: =H35+I34 -> 124693.09 | J35: =I35+J34 -> 181968.29 | ... M35: =L35+M34 -> 514572.84
A36: Starting Working Capital | B36: 5000
A38: Notes:
A39: Fill in shaded areas only
A40: Variable expenses included in Gross Margin calculation

Sheet Tactical Marketing Plan _TMP_
A1: Tactical Marketing Plan | AA1: Marketing Weapons
B3: January | D3: February | F3: March | H3: April | J3: May | L3: June | N3: July | P3: August | R3: September | T3: October | V3: November | X3: December | AA3: 1. Marketing plan
AA4: 2. Marketing calendar
A5: Leads | B5: Plan | C5: Actual | D5: Plan | E5: Actual | F5: Plan | G5: Actual | H5: Plan | I5: Actual | J5: Plan | K5: Actual | L5: Plan | M5: Actual | N5: Plan | O5: Actual | P5: Plan | Q5: Actual | R5: Plan | S5: Actual | T5: Plan | U5: Actual | V5: Plan | W5: Actual | X5: Plan | Y5: Actual | AA5: 3. Niche/positioning
A6: 25. Free seminars and clinics | B6: 25 | C6: 22 | D6: 30 | AA6: 4. Name of company
A7: 38. Yellow Pages ads | B7: 10 | C7: 5 | D7: 5 | AA7: 5. Identity
A8: 40. Article in a publication | B8: 5 | C8: 7 | D8: 10 | AA8: 6. Logo
A9: 41. Speaker at any club | B9: 15 | C9: 16 | D9: 20 | AA9: 7. Theme
A10: 42. Newsletter | B10: 10 | C10: 11 | D10: 15 | AA10: 8. Stationery
A11: 52. Referral program | B11: 30 | C11: 21 | D11: 25 | AA11: 9. Business card
A12: 55. Telemarketing | B12: 10 | C12: 10 | D12: 15 | AA12: 10. Signs inside
A13: 58. Electronic brochures | B13: 20 | C13: 19 | D13: 20 | AA13: 11. Signs outside
A14: 62. Networking | B14: 20 | C14: 17 | D14: 25 | AA14: 12. Hours of operation
A15: 68. Online marketing | B15: 10 | C15: 4 | D15: 10 | AA15: 13. Days of operation
A16: 69. Classified advertising | B16: 5 | C16: 7 | D16: 8 | AA16: 14. Window display
A17: 77. Direct mail postcards | B17: 15 | C17: 12 | D17: 15 | AA17: 15. Flexibility
AA18: 16. Word-of-mouth
AA19: 17. Community involvement
AA20: 18. Barter
A21: Leads (Plan vs. Actual) | B21: =SUM(B6:B20) -> 175 | C21: =SUM(C6:C20) -> 151 | D21: =SUM(D6:D20) -> 198 | E21: =SUM(E6:E20) -> 0 | F21: =SUM(F6:F20) -> 0 | G21: =SUM(G6:G20) -> 0 | H21: =SUM(H6:H20) -> 0 | I21: =SUM(I6:I20) -> 0 | ... Y21: =SUM(Y6:Y20) -> 0 | AA21: 19. Club/Association memberships
A22: Leads (Required) | B22: ='Profit Equation by Month'!B5 -> 150 | D22: ='Profit Equation by Month'!C5 -> 165 | F22: ='Profit Equation by Month'!D5 -> 180 | H22: ='Profit Equation by Month'!E5 -> 195 | J22: ='Profit Equation by Month'!F5 -> 210 | L22: ='Profit Equation by Month'!G5 -> 225 | N22: ='Profit Equation by Month'!H5 -> 240 | P22: ='Profit Equation by Month'!I5 -> 255 | R22: ='Profit Equation by Month'!J5 -> 270 | T22: ='Profit Equation by Month'!K5 -> 285 | V22: ='Profit Equation by Month'!L5 -> 300 | X22: ='Profit Equation by Month'!M5 -> 315 | AA22: 20. Partial payment plans
A23: Gap (Plan vs. Actual) | B23: =B21-B22 -> 25 | C23: =C21-B22 -> 1 | D23: =D21-D22 -> 33 | E23: =E21-D22 -> -165 | F23: =F21-F22 -> -180 | G23: =G21-F22 -> -180 | H23: =H21-H22 -> -195 | I23: =I21-H22 -> -195 | J23: =J21-J22 -> -210 | K23: =K21-J22 -> -210 | L23: =L21-L22 -> -225 | M23: =M21-L22 -> -225 | N23: =N21-N22 -> -240 | O23: =O21-N22 -> -240 | P23: =P21-P22 -> -255 | Q23: =Q21-P22 -> -255 | R23: =R21-R22 -> -270 | S23: =S21-R22 -> -270 | T23: =T21-T22 -> -285 | U23: =U21-T22 -> -285 | V23: =V21-V22 -> -300 | W23: =W21-V22 -> -300 | X23: =X21-X22 -> -315 | Y23: =Y21-X22 -> -315 | AA23: 21. Cause-related marketing
AA24: 22. Telephone demeanor
A25: Conversion Rate | B25: Plan | C25: Actual | D25: Plan | E25: Actual | F25: Plan | G25: Actual | H25: Plan | I25: Actual | J25: Plan | K25: Actual | L25: Plan | M25: Actual | N25: Plan | O25: Actual | P25: Plan | Q25: Actual | R25: Plan | S25: Actual | T25: Plan | U25: Actual | V25: Plan | W25: Actual | X25: Plan | Y25: Actual | AA25: 23. Toll free phone number
A26: =A6 -> 25. Free seminars and clinics | AA26: 24. Free consultations
A27: =A7 -> 38. Yellow Pages ads | AA27: 25. Free seminars and clinics
A28: =A8 -> 40. Article in a publication | F28: x | AA28: 26. Free demonstrations
A29: =A9 -> 41. Speaker at any club | AA29: 27. Free samples
A30: =A10 -> 42. Newsletter | B30: x | D30: x | F30: x | AA30: 28. Giver vs taker stance
A31: =A11 -> 52. Referral program | AA31: 29. Fusion marketing
A32: =A12 -> 55. Telemarketing | F32: x | AA32: 30. Marketing on telephone hold
A33: =A13 -> 58. Electronic brochures | B33: x | D33: x | F33: x | AA33: 31. Success stories
A34: =A14 -> 62. Networking | D34: x | F34: x | AA34: 32. Employee attire
A35: =A15 -> 68. Online marketing | AA35: 33. Service
A36: =A16 -> 69. Classified advertising | AA36: 34. Follow-up
A37: =A17 -> 77. Direct mail postcards | AA37: 35. Yourself and your employees
A38: =A18 | AA38: 36. Gifts and ad specialities
A39: =A19 | AA39: 37. Catalog
A40: =A20 | AA40: 38. Yellow Pages ads
A41: New Customers (Plan vs. Actual) | B41: ='Profit Equation by Month'!B9 -> 7.5 | C41: 8 | D41: ='Profit Equation by Month'!C9 -> 12.375 | E41: 13 | F41: ='Profit Equation by Month'!D9 -> 18 | G41: 20 | H41: ='Profit Equation by Month'!E9 -> 24.375 | I41: 25 | J41: ='Profit Equation by Month'!F9 -> 31.5 | K41: 30 | L41: ='Profit Equation by Month'!G9 -> 39.375 | M41: 40 | N41: ='Profit Equation by Month'!H9 -> 48 | O41: 50 | P41: ='Profit Equation by Month'!I9 -> 57.375 | Q41: 55 | R41: ='Profit Equation by Month'!J9 -> 67.5 | S41: 70 | T41: ='Profit Equation by Month'!K9 -> 78.375 | U41: 80 | V41: ='Profit Equation by Month'!L9 -> 90 | W41: 92 | X41: ='Profit Equation by Month'!M9 -> 102.375 | Y41: 100 | AA41: 39. Column in a publication
...

Sheet Sales Mgmt System _SMS_
B1: Sales Management System
A3: Week # (of 52) | B3: 1 | C3: 2 | D3: 3 | E3: 4 | F3: 5 | G3: 6 | H3: 7 | I3: 8 | J3: 9 | K3: 10 | L3: 11 | M3: 12 | N3: 13 | O3: 14 | P3: 15 | Q3: 16 | R3: 17 | S3: 18 | T3: 19 | U3: 20 | V3: 21 | W3: 22 | X3: 23 | Y3: 24 | Z3: 25 | AA3: 26 | AB3: 27 | AC3: 28 | AD3: 29 | AE3: 30 | AF3: 31 | AG3: 32 | AH3: 33 | AI3: 34 | AJ3: 35 | AK3: 36 | AL3: 37 | AM3: 38 | AN3: 39 | AO3: 40 | AP3: 41 | AQ3: 42 | AR3: 43 | AS3: 44 | AT3: 45 | AU3: 46 | AV3: 47 | AW3: 48 | AX3: 49 | AY3: 50 | AZ3: 49 | BA3: 50 | BB3: 51 | BC3: 52 | BD3: TOTAL
A5: Leads Generated | B5: 45 | C5: 45 | D5: 25 | E5: 10 | F5: 10 | G5: 10 | H5: 10 | I5: 10 | J5: 10 | K5: 10 | L5: 10 | M5: 10 | N5: 10 | O5: 10 | P5: 10 | Q5: 10 | R5: 10 | S5: 10 | T5: 10 | U5: 10 | V5: 10 | W5: 10 | X5: 10 | Y5: 10 | Z5: 10 | AA5: 10 | AB5: 10 | AC5: 10 | AD5: 10 | AE5: 10 | AF5: 10 | AG5: 10 | AH5: 10 | AI5: 10 | AJ5: 10 | AK5: 10 | AL5: 10 | AM5: 10 | AN5: 10 | AO5: 10 | AP5: 10 | AQ5: 10 | AR5: 10 | AS5: 10 | AT5: 10 | AU5: 10 | AV5: 10 | AW5: 10 | AX5: 10 | AY5: 10 | AZ5: 10 | BA5: 10 | BB5: 10 | BC5: 10 | BD5: =SUM(B5:BC5) -> 625
A6: X
A7: Conversion Rate | B7: =B9/B5 -> 0.044444444 | C7: =C9/C5 -> 0.044444444 | D7: =D9/D5 -> 0.08 | E7: =E9/E5 -> 0.3 | F7: =F9/F5 -> 0.3 | G7: =G9/G5 -> 0.3 | H7: =H9/H5 -> 0.4 | I7: =I9/I5 -> 0.4 | ... BC7: =BC9/BC5 -> 0.5 | BD7: =AVERAGE(B7:BC7) -> 0.35868313
A8: =
A9: New Customers | B9: 2 | C9: 2 | D9: 2 | E9: 3 | F9: 3 | G9: 3 | H9: 4 | I9: 4 | J9: 4 | K9: 5 | L9: 5 | M9: 5 | N9: 2 | O9: 2 | P9: 2 | Q9: 3 | R9: 3 | S9: 3 | T9: 4 | U9: 4 | V9: 4 | W9: 5 | X9: 5 | Y9: 5 | Z9: 5 | AA9: 2 | AB9: 2 | AC9: 2 | AD9: 3 | AE9: 3 | AF9: 3 | AG9: 4 | AH9: 4 | AI9: 4 | AJ9: 5 | AK9: 5 | AL9: 5 | AM9: 2 | AN9: 2 | AO9: 2 | AP9: 3 | AQ9: 3 | AR9: 3 | AS9: 4 | AT9: 4 | AU9: 4 | AV9: 5 | AW9: 5 | AX9: 5 | AY9: 5 | AZ9: 5 | BA9: 5 | BB9: 5 | BC9: 5 | BD9: =SUM(B9:BC9) -> 198
A10: X
A11: Revenue/Customer | B11: =B13/B9 -> 9000 | C11: =C13/C9 -> 9000 | D11: =D13/D9 -> 9000 | E11: =E13/E9 -> 6666.6667 | F11: =F13/F9 -> 6666.6667 | G11: =G13/G9 -> 6666.6667 | H11: =H13/H9 -> 5500 | I11: =I13/I9 -> 5500 | ... BC11: =BC13/BC9 -> 4800 | BD11: =AVERAGE(B11:BC11) -> 6303.7037
A12: =
A13: Revenues | B13: 18000 | C13: 18000 | D13: 18000 | E13: 20000 | F13: 20000 | G13: 20000 | H13: 22000 | I13: 22000 | J13: 22000 | K13: 24000 | L13: 24000 | M13: 24000 | N13: 18000 | O13: 18000 | P13: 18000 | Q13: 20000 | R13: 20000 | S13: 20000 | T13: 22000 | U13: 22000 | V13: 22000 | W13: 24000 | X13: 24000 | Y13: 24000 | Z13: 24000 | AA13: 18000 | AB13: 18000 | AC13: 18000 | AD13: 20000 | AE13: 20000 | AF13: 20000 | AG13: 22000 | AH13: 22000 | AI13: 22000 | AJ13: 24000 | AK13: 24000 | AL13: 24000 | AM13: 18000 | AN13: 18000 | AO13: 18000 | AP13: 20000 | AQ13: 20000 | AR13: 20000 | AS13: 22000 | AT13: 22000 | AU13: 22000 | AV13: 24000 | AW13: 24000 | AX13: 24000 | AY13: 24000 | AZ13: 24000 | BA13: 24000 | BB13: 24000 | BC13: 24000 | BD13: =SUM(B13:BC13) -> 1152000
A14: X
A15: Commission % | B15: 0.1 | C15: 0.1 | D15: 0.1 | E15: 0.1 | F15: 0.1 | G15: 0.1 | H15: 0.1 | I15: 0.1 | J15: 0.1 | K15: 0.1 | L15: 0.1 | M15: 0.1 | N15: 0.1 | O15: 0.1 | P15: 0.1 | Q15: 0.1 | R15: 0.1 | S15: 0.1 | T15: 0.1 | U15: 0.1 | V15: 0.1 | W15: 0.1 | X15: 0.1 | Y15: 0.1 | Z15: 0.1 | AA15: 0.1 | AB15: 0.1 | AC15: 0.1 | AD15: 0.1 | AE15: 0.1 | AF15: 0.1 | AG15: 0.1 | AH15: 0.1 | AI15: 0.1 | AJ15: 0.1 | AK15: 0.1 | AL15: 0.1 | AM15: 0.1 | AN15: 0.1 | AO15: 0.1 | AP15: 0.1 | AQ15: 0.1 | AR15: 0.1 | AS15: 0.1 | AT15: 0.1 | AU15: 0.1 | AV15: 0.1 | AW15: 0.1 | AX15: 0.1 | AY15: 0.1 | AZ15: 0.1 | BA15: 0.1 | BB15: 0.1 | BC15: 0.1 | BD15: =AVERAGE(B15:BC15) -> 0.1
A16: =
A17: Commission | B17: =B13*B15 -> 1800 | C17: =C13*C15 -> 1800 | D17: =D13*D15 -> 1800 | E17: =E13*E15 -> 2000 | F17: =F13*F15 -> 2000 | G17: =G13*G15 -> 2000 | H17: =H13*H15 -> 2200 | I17: =I13*I15 -> 2200 | ... BC17: =BC13*BC15 -> 2400 | BD17: =SUM(B17:BC17) -> 115200
A18: -
A19: Goal | B19: 2000 | C19: 2000 | D19: 2000 | E19: 2000 | F19: 2000 | G19: 2000 | H19: 2000 | I19: 2000 | J19: 2000 | K19: 2000 | L19: 2000 | M19: 2000 | N19: 2000 | O19: 2000 | P19: 2000 | Q19: 2000 | R19: 2000 | S19: 2000 | T19: 2000 | U19: 2000 | V19: 2000 | W19: 2000 | X19: 2000 | Y19: 2000 | Z19: 2000 | AA19: 2000 | AB19: 2000 | AC19: 2000 | AD19: 2000 | AE19: 2000 | AF19: 2000 | AG19: 2000 | AH19: 2000 | AI19: 2000 | AJ19: 2000 | AK19: 2000 | AL19: 2000 | AM19: 2000 | AN19: 2000 | AO19: 2000 | AP19: 2000 | AQ19: 2000 | AR19: 2000 | AS19: 2000 | AT19: 2000 | AU19: 2000 | AV19: 2000 | AW19: 2000 | AX19: 2000 | AY19: 2000 | AZ19: 2000 | BA19: 2000 | BB19: 2000 | BC19: 2000 | BD19: =AVERAGE(B19:BC19) -> 2000
A20: =
A21: Variance | B21: =B17-B19 -> -200 | C21: =C17-C19 -> -200 | D21: =D17-D19 -> -200 | E21: =E17-E19 -> 0 | F21: =F17-F19 -> 0 | G21: =G17-G19 -> 0 | H21: =H17-H19 -> 200 | I21: =I17-I19 -> 200 | ... BC21: =BC17-BC19 -> 400 | BD21: =AVERAGE(B21:BC21) -> 133.33333
A23: Rolling Variance | B23: =B21 -> -200 | C23: =B23+C21 -> -400 | D23: =C23+D21 -> -600 | E23: =D23+E21 -> -600 | F23: =E23+F21 -> -600 | G23: =F23+G21 -> -600 | H23: =G23+H21 -> -400 | I23: =H23+I21 -> -200 | J23: =I23+J21 -> 0 | ... BC23: =BB23+BC21 -> 7200 | BD23: =BC23 -> 7200
A25: Notes:
A26: Fill in shaded areas only

Sheet Employee BE by Wk
A1: Employee Break-Even by Week
A3: Employee A Name | D3: Hrs Worked | F3: Pay | H3: Gross Pay Cost | I3: =F43 -> 4298.75
A4: Regular | B4: 12.5 | C4: x | D4: 40 | E4: = | F4: =B4*D4 -> 500 | H4: Social Security = .0765 x pay | I4: =I3*0.0765 -> 328.85438
A5: Overtime | B5: =B4*1.5 -> 18.75 | C5: x | D5: 5 | E5: = | F5: =B5*D5 -> 93.75 | H5: Workman's Comp = .07 x pay | I5: =I3*0.07 -> 300.9125
D6: =SUM(D4:D5) -> 45 | E6: Total | F6: =F4+F5 -> 593.75 | H6: FUTA * unemployment | I6: =I3*0.008 -> 34.39
H7: PAUC * unemployment | I7: =I3*0.008 -> 34.39
A8: Employee B Name | D8: Hrs Worked | F8: Pay | H8: Utilities (variable cost) | I8: =D43*1.75 -> 630
A9: Regular | B9: 18 | C9: x | D9: 40 | E9: = | F9: =B9*D9 -> 720 | H9: Total Payroll this Week | I9: =SUM(I3:I8) -> 5627.2969
A10: Overtime | B10: =B9*1.5 -> 27 | C10: x | D10: 5 | E10: = | F10: =B10*D10 -> 135
D11: =SUM(D9:D10) -> 45 | E11: Total | F11: =F9+F10 -> 855 | H11: Income from team with 100% billed time
H12: Billable rate (average) | I12: 38.5
A13: Employee C Name | D13: Hrs Worked | F13: Pay | H13: Billable hours | I13: =D43 -> 360
A14: Regular | B14: 10 | C14: x | D14: 40 | E14: = | F14: =B14*D14 -> 400 | H14: Total | I14: =I12*I13 -> 13860
A15: Overtime | B15: =B14*1.5 -> 15 | C15: x | D15: 5 | E15: = | F15: =B15*D15 -> 75 | H15: Profit (Loss) | I15: =I14-I9 -> 8232.7031
D16: =D14+D15 -> 45 | E16: Total | F16: =F14+F15 -> 475 | H16: Break-Even Hours | I16: =I9/I12 -> 146.16356
A18: Employee D Name | D18: Hrs Worked | F18: Pay | H18: Income from team with less than 100% billed time
A19: Regular | B19: 10 | C19: x | D19: 40 | E19: = | F19: =B19*D19 -> 400 | H19: Billable rate (average) | I19: 38.5
A20: Overtime | B20: =B19*1.5 -> 15 | C20: x | D20: 5 | E20: = | F20: =B20*D20 -> 75 | H20: Billable Time (enter time) | I20: 120
D21: =D19+D20 -> 45 | E21: Total | F21: =F19+F20 -> 475 | H21: Total | I21: =I19*I20 -> 4620
H22: Profit (Loss) | I22: =I21-I9 -> -1007.2969
A23: Employee E Name | D23: Hrs Worked | F23: Pay | H23: Break-Even Hour | I23: =I9/I19 -> 146.16356
A24: Regular | B24: 10 | C24: x | D24: 40 | E24: = | F24: =B24*D24 -> 400
A25: Overtime | B25: =B24*1.5 -> 15 | C25: x | D25: 5 | E25: = | F25: =B25*D25 -> 75
D26: =D24+D25 -> 45 | E26: Total | F26: =F24+F25 -> 475
A28: Employee F Name | D28: Hrs Worked | F28: Pay
A29: Regular | B29: 10 | C29: x | D29: 40 | E29: = | F29: =B29*D29 -> 400
A30: Overtime | B30: =B29*1.5 -> 15 | C30: x | D30: 5 | E30: = | F30: =B30*D30 -> 75
D31: =D29+D30 -> 45 | E31: Total | F31: =F29+F30 -> 475
A33: Employee G Name | D33: Hrs Worked | F33: Pay
A34: Regular | B34: 10 | C34: x | D34: 40 | E34: = | F34: =B34*D34 -> 400
A35: Overtime | B35: =B34*1.5 -> 15 | C35: x | D35: 5 | E35: = | F35: =B35*D35 -> 75
D36: =D34+D35 -> 45 | E36: Total | F36: =F34+F35 -> 475
A38: Employee H Name | D38: Hrs Worked | F38: Pay
A39: Regular | B39: 10 | C39: x | D39: 40 | E39: = | F39: =B39*D39 -> 400
A40: Overtime | B40: =B39*1.5 -> 15 | C40: x | D40: 5 | E40: = | F40: =B40*D40 -> 75
D41: =D39+D40 -> 45 | E41: Total | F41: =F39+F40 -> 475
A43: Total Hours Worked | D43: =D6+D11+D16+D21+D26+D31+D36+D41 -> 360 | E43: Total | F43: =F6+F11+F16+F21+F26+F31+F36+F41 -> 4298.75
A45: Notes:
A46: Fill in shaded areas only

Sheet Marketing Campaign BE
A1: Marketing Campaign Break-Even
A3: Trade Show | D3: Paid Search | G3: Campaign 3 | J3: Campaign 4
A4: Gross Profit per Sale | D4: Gross Profit per Sale | G4: Gross Profit per Sale | J4: Gross Profit per Sale
A5: Average sale | B5: 500 | D5: Average sale | E5: 500 | G5: Average sale | H5: 500 | J5: Average sale | K5: 500
A6: Gross margin % | B6: 0.4 | D6: Gross margin % | E6: 0.4 | G6: Gross margin % | H6: 0.4 | J6: Gross margin % | K6: 0.4
A7: Gross profit per sale | B7: =B5*B6 -> 200 | D7: Gross profit per sale | E7: =E5*E6 -> 200 | G7: Gross profit per sale | H7: =H5*H6 -> 200 | J7: Gross profit per sale | K7: =K5*K6 -> 200
A9: Fixed Cost of Campaign | D9: Fixed Cost of Campaign | G9: Fixed Cost of Campaign | J9: Fixed Cost of Campaign
A10: Booth | B10: 500 | D10: Ad | E10: 1500 | G10: 1 | J10: 1
A11: Lodging | B11: 100 | D11: Design | E11: 100 | G11: 2 | J11: 2
A12: Give away | B12: 500 | G12: 3 | J12: 3
A13: Wages | B13: 500 | G13: 4 | J13: 4
A14: Other | B14: 50 | G14: 5 | J14: 5
A15: Total Fixed Cost of Campaign | B15: =SUM(B10:B14) -> 1650 | D15: Total Fixed Cost of Campaign | E15: =SUM(E10:E14) -> 1600 | G15: Total Fixed Cost of Campaign | H15: =SUM(H10:H14) -> 0 | J15: Total Fixed Cost of Campaign | K15: =SUM(K10:K14) -> 0
A17: Campaign Break-Even | D17: Campaign Break-Even | G17: Campaign Break-Even | J17: Campaign Break-Even
A18: Total Fixed Cost of Campaign | B18: =B15 -> 1650 | D18: Total Fixed Cost of Campaign | E18: =E15 -> 1600 | G18: Total Fixed Cost of Campaign | H18: =H15 -> 0 | J18: Total Fixed Cost of Campaign | K18: =K15 -> 0
A19: Gross profit per sales | B19: =B7 -> 200 | D19: Gross profit per sales | E19: =E7 -> 200 | G19: Gross profit per sales | H19: =H7 -> 200 | J19: Gross profit per sales | K19: =K7 -> 200
A20: Transactions required to break even | B20: =B18/B19 -> 8.25 | D20: Transactions required to break even | E20: =E18/E19 -> 8 | G20: Transactions required to break even | H20: =H18/H19 -> 0 | J20: Transactions required to break even | K20: =K18/K19 -> 0
A21: Estimated Conversion Rate on Leads | B21: 0.24 | D21: Estimated Conversion Rate on Leads | E21: 0.2 | G21: Estimated Conversion Rate on Leads | H21: 0.24 | J21: Estimated Conversion Rate on Leads | K21: 0.24
A22: Leads Needed | B22: =B20/B21 -> 34.375 | D22: Leads Needed | E22: =E20/E21 -> 40 | G22: Leads Needed | H22: =H20/H21 -> 0 | J22: Leads Needed | K22: =K20/K21 -> 0
A23: Likely to Break Even? (Yes/No) | B23: Yes | D23: Likely to Break Even? (Yes/No) | E23: No | G23: Likely to Break Even? (Yes/No) | H23: - | J23: Likely to Break Even? (Yes/No) | K23: -
A25: Fill in shaded areas only | D25: Fill in shaded areas only | G25: Fill in shaded areas only | J25: Fill in shaded areas only

Sheet Price Increase BE
A1: Increasing Your Prices
A3: If Your Present Margin Is: | D3: 0.2 | E3: 0.25 | F3: 0.3 | G3: 0.35 | H3: 0.4 | I3: 0.45 | J3: 0.5 | K3: 0.55 | L3: 0.6
A5: And you INCREASE your prices by:
A6: Your sales could DECLINE by the amount shown before your Gross Profit is reduced …
B7: 0.02 | D7: 0.09 | E7: 0.07 | F7: 0.06 | G7: 0.05 | H7: 0.05 | I7: 0.04 | J7: 0.04 | K7: 0.04 | L7: 0.03
B8: 0.04 | D8: 0.17 | E8: 0.14 | F8: 0.12 | G8: 0.1 | H8: 0.09 | I8: 0.08 | J8: 0.07 | K8: 0.07 | L8: 0.06
B9: 0.06 | D9: 0.23 | E9: 0.19 | F9: 0.17 | G9: 0.15 | H9: 0.13 | I9: 0.12 | J9: 0.11 | K9: 0.1 | L9: 0.09
B10: 0.08 | D10: 0.29 | E10: 0.24 | F10: 0.21 | G10: 0.19 | H10: 0.17 | I10: 0.15 | J10: 0.14 | K10: 0.13 | L10: 0.12
B11: 0.1 | D11: 0.33 | E11: 0.29 | F11: 0.25 | G11: 0.22 | H11: 0.2 | I11: 0.18 | J11: 0.17 | K11: 0.15 | L11: 0.14
B12: 0.12 | D12: 0.38 | E12: 0.32 | F12: 0.29 | G12: 0.26 | H12: 0.23 | I12: 0.21 | J12: 0.19 | K12: 0.18 | L12: 0.17
B13: 0.14 | D13: 0.41 | E13: 0.36 | F13: 0.32 | G13: 0.29 | H13: 0.26 | I13: 0.24 | J13: 0.22 | K13: 0.2 | L13: 0.19
B14: 0.16 | D14: 0.44 | E14: 0.39 | F14: 0.35 | G14: 0.31 | H14: 0.29 | I14: 0.26 | J14: 0.24 | K14: 0.23 | L14: 0.21
B15: 0.18 | D15: 0.47 | E15: 0.42 | F15: 0.38 | G15: 0.34 | H15: 0.31 | I15: 0.29 | J15: 0.26 | K15: 0.25 | L15: 0.23
B16: 0.2 | D16: 0.5 | E16: 0.44 | F16: 0.4 | G16: 0.36 | H16: 0.33 | I16: 0.31 | J16: 0.29 | K16: 0.27 | L16: 0.25
B17: 0.25 | D17: 0.56 | E17: 0.5 | F17: 0.45 | G17: 0.42 | H17: 0.38 | I17: 0.36 | J17: 0.33 | K17: 0.31 | L17: 0.29
B18: 0.3 | D18: 0.6 | E18: 0.55 | F18: 0.5 | G18: 0.46 | H18: 0.43 | I18: 0.4 | J18: 0.38 | K18: 0.35 | L18: 0.33
A20: When you adopt a premium pricing strategy this table shows the amount by which your sales would have to
A21: decline following a price increase before your gross profit is reduced below it's present level.
A22: For example, at a 40% margin a 10% increase in your price could sustain a 20% reduction in revenue.
A24: Determining break-even on a price increase
A25: How do you calculate how much sales volume you can lose without affecting your gross profit?
A26: Here’s a useful formula for determining break-even on a price increase.
A27: Add the current gross margin to the percent increase and divide the percent price increase by the first number…
A28: E.g.: 10% increase for a company with 60% gross margins
A29: 10 divided by 70 (gross margin of 60 + price increase of 10) = 14.3%
A30: The business must lose 14.3% of revenue to achieve same level of gross profit

Sheet Price Decrease BE
A1: Decreasing Your Prices
A3: If Your Present Margin Is: | D3: 0.2 | E3: 0.25 | F3: 0.3 | G3: 0.35 | H3: 0.4 | I3: 0.45 | J3: 0.5 | K3: 0.55 | L3: 0.6
A5: And you DECREASE your prices by:
A6: Your sales must INCREASE by the amount shown to keep the same Gross Profit ...
B7: 0.02 | D7: 0.11 | E7: 0.09 | F7: 0.07 | G7: 0.06 | H7: 0.05 | I7: 0.05 | J7: 0.04 | K7: 0.04 | L7: 0.03
B8: 0.04 | D8: 0.25 | E8: 0.19 | F8: 0.15 | G8: 0.13 | H8: 0.11 | I8: 0.1 | J8: 0.09 | K8: 0.08 | L8: 0.07
B9: 0.06 | D9: 0.43 | E9: 0.32 | F9: 0.25 | G9: 0.21 | H9: 0.18 | I9: 0.15 | J9: 0.14 | K9: 0.12 | L9: 0.11
B10: 0.08 | D10: 0.67 | E10: 0.47 | F10: 0.36 | G10: 0.3 | H10: 0.25 | I10: 0.22 | J10: 0.19 | K10: 0.17 | L10: 0.15
B11: 0.1 | D11: 1 | E11: 0.67 | F11: 0.5 | G11: 0.4 | H11: 0.33 | I11: 0.29 | J11: 0.25 | K11: 0.22 | L11: 0.2
B12: 0.12 | D12: 1.5 | E12: 0.92 | F12: 0.67 | G12: 0.52 | H12: 0.43 | I12: 0.36 | J12: 0.32 | K12: 0.28 | L12: 0.25
B13: 0.14 | D13: 2.33 | E13: 1.27 | F13: 0.88 | G13: 0.67 | H13: 0.54 | I13: 0.45 | J13: 0.39 | K13: 0.14 | L13: 0.3
B14: 0.16 | D14: 4 | E14: 1.78 | F14: 1.14 | G14: 0.84 | H14: 0.67 | I14: 0.55 | J14: 0.47 | K14: 0.41 | L14: 0.36
B15: 0.18 | D15: 9 | E15: 2.57 | F15: 1.5 | G15: 1.06 | H15: 0.82 | I15: 0.67 | J15: 0.56 | K15: 0.49 | L15: 0.43
B16: 0.2 | E16: 4 | F16: 2 | G16: 1.33 | H16: 1 | I16: 0.8 | J16: 0.67 | K16: 0.57 | L16: 0.5
B17: 0.25 | F17: 5 | G17: 2.5 | H17: 1.67 | I17: 1.25 | J17: 1 | K17: 0.83 | L17: 0.71
B18: 0.3 | G18: 6 | H18: 3 | I18: 2 | J18: 1.5 | K18: 1.2 | L18: 1
A20: The table indicates the increase in your sales that are required to compensate for a price discounting strategy. For example, if your margin is 40% and you reduce your price by 10% you need your sales volume to increase by 33% to maintain your profit. Rarely has such a strategy worked in the past and it's unlikely it will work in the future.

Sheet Default Calendar
A1: Default Calendar
A2: Time | B2: Monday | D2: Tuesday | F2: Wednesday | H2: Thursday | J2: Friday
A3: 7:00am | B3: Vision Book & Affirmations | D3: Vision Book & Affirmations | F3: Networking Event | H3: Vision Book & Affirmations | J3: Vision Book & Affirmations
A4: 7:15am
A5: 7:30am | B5: Emails/Admin | D5: Emails/Admin | H5: Emails/Admin | J5: Emails/Admin
A6: 7:45am
A7: 8:00am | B7: Phone Fun | D7: Phone Fun | F7: Phone Fun | H7: Phone Fun | J7: Phone Fun
A8: 8:15am
A9: 8:30am
A10: 8:45am
A11: 9:00am
A12: 9:15am
A13: 9:30am
A14: 9:45am
A15: 10:00am
A16: 10:15am
A17: 10:30am
A18: 10:45am
A19: 11:00am
... A22: 11:45am
A23: 12:00N | B23: Strategic Partner Meeting | D23: Strategic Partner Meeting | F23: Strategic Partner Meeting | H23: Strategic Partner Meeting | J23: Strategic Partner Meeting
A24: 12:15pm
A25: 12:30pm
A26: 12:45pm
A27: 1:00pm | B27: Travel/Break | D27: Travel/Break | F27: Travel/Break | H27: Travel/Break | J27: Travel/Break
A28: 1:15pm
A29: 1:30pm | B29: Lead Generation & Conversion | D29: Coaching | F29: Coaching | H29: Lead Generation & Conversion | J29: Lead Generation & Conversion
A30: 1:45pm
A31: 2:00pm
A32: 2:15pm
A33: 2:30pm | D33: Coaching | F33: Coaching
A34: 2:45pm
A35: 3:00pm
A36: 3:15pm
A37: 3:30pm | B37: Lead Generation & Conversion | D37: Coaching | F37: Coaching | H37: Lead Generation & Conversion | J37: Resource Management
A38: 3:45pm
A39: 4:00pm
A40: 4:15pm
A41: 4:30pm | D41: Coaching | F41: Coaching
A42: 4:45pm
...
