Workbook

Sheet Checklist
B3: Business Success Checklist for Small Business Owners
B7: Name: | C7: Date:
B8: Company:
B9: As a business owner, your income and lifestyle are often linked to your success in business. This checklist is designed to help you uncover the opportunities and actions needed to get more sales, profit, control and freedom from your small business
B13: Planning - Your Foundation | C13: Low High
B14: I possess a clear vision for where my company is going and have it written out in detail | C14: 1 | D14: 2 | E14: 3 | F14: 4 | G14: 5
B15: Our company values are defined in writing and used to make decisions | C15: 1 | D15: 2 | E15: 3 | F15: 4 | G15: 5
B16: We have a clear mission that is in writing and shared with others | C16: 1 | D16: 2 | E16: 3 | F16: 4 | G16: 5
B17: I have SMART business goals and I review them often | C17: 1 | D17: 2 | E17: 3 | F17: 4 | G17: 5
B18: The company has a written, ACTIONABLE plan with strategic objectives | C18: 1 | D18: 2 | E18: 3 | F18: 4 | G18: 5
B19: The company performs a SWOT analysis annually and uses it for planning | C19: 1 | D19: 2 | E19: 3 | F19: 4 | G19: 5
B20: The company's action plan is being used, measured and updated quarterly | C20: 1 | D20: 2 | E20: 3 | F20: 4 | G20: 5
B21: Individual responsibilities for achieving financial and other goals are clearly defined | C21: 1 | D21: 2 | E21: 3 | F21: 4 | G21: 5
B22: The team is engaged in planning sessions and business goals are communicated to all | C22: 1 | D22: 2 | E22: 3 | F22: 4 | G22: 5
B23: Total | C23: =SUM(H14:H22) -> 0
B24: Products (Services) - To maximize sales and profit | C24: Low High
B25: I/We keep a pulse on the market (customers) through surveys, feedback and research | C25: 1 | D25: 2 | E25: 3 | F25: 4 | G25: 5
B26: I/We have found a niche for our products/services and no longer compete on price | C26: 1 | D26: 2 | E26: 3 | F26: 4 | G26: 5
B27: I/We have a clear positioning (eg, convenience, quality) for our company and products | C27: 1 | D27: 2 | E27: 3 | F27: 4 | G27: 5
B28: I/We evaluate our product positioning, packaging and pricing at least annually and adjust as needed | C28: 1 | D28: 2 | E28: 3 | F28: 4 | G28: 5
B29: We look for opportunities to expand or improve our products/services with profit objectives in mind | C29: 1 | D29: 2 | E29: 3 | F29: 4 | G29: 5
B30: Our pricing strategies are linked to value and maximize margins; we rarely discount products or services | C30: 1 | D30: 2 | E30: 3 | F30: 4 | G30: 5
B31: Our team is knowledgeable about our products features and benefits, we know how to educate customers | C31: 1 | D31: 2 | E31: 3 | F31: 4 | G31: 5
B32: I/We have a good knowledge of competitors and their practices | C32: 1 | D32: 2 | E32: 3 | F32: 4 | G32: 5
B33: I/We seek and take advantage of recurring and/or residual product opportunities | C33: 1 | D33: 2 | E33: 3 | F33: 4 | G33: 5
B34: We survey customers to find new product/service ideas or ways to improve current offerings | C34: 1 | D34: 2 | E34: 3 | F34: 4 | G34: 5
B35: Our team understands the profit margins for all our products/services | C35: 1 | D35: 2 | E35: 3 | F35: 4 | G35: 5
B36: Total | C36: =SUM(H25:H35) -> 0
B37: Promotion - To attract new customers and keep them coming back | C37: Low High
B38: Our sales volumes and profits are continuously increasing | C38: 1 | D38: 2 | E38: 3 | F38: 4 | G38: 5
B39: We have a unique selling (value) proposition and every member of the team knows and understands it | C39: 1 | D39: 2 | E39: 3 | F39: 4 | G39: 5
B40: Everyone is aware of the lifetime value of our customers and continuously seeks to improve it | C40: 1 | D40: 2 | E40: 3 | F40: 4 | G40: 5
B41: We have clearly defined targets for our products/services -- and don't try to be all things to all people | C41: 1 | D41: 2 | E41: 3 | F41: 4 | G41: 5
B42: We utilize a step-by-step marketing plan to increase customers, revenue and profits | C42: 1 | D42: 2 | E42: 3 | F42: 4 | G42: 5
B43: We have at least 10 turn-key, systematized ways to generate leads for our products / services | C43: 1 | D43: 2 | E43: 3 | F43: 4 | G43: 5
B44: We have at least 3 strategies in place to increase customer average sale and frequency | C44: 1 | D44: 2 | E44: 3 | F44: 4 | G44: 5
B45: We have a digital (online) marketing strategy (eg email, social media) to support traditional methods | C45: 1 | D45: 2 | E45: 3 | F45: 4 | G45: 5
B46: We utilize online business directories and have complete profiles on at least 4 relevant sites | C46: 1 | D46: 2 | E46: 3 | F46: 4 | G46: 5
B47: We have a website that is updated, optimized for the search engines and content rich | C47: 1 | D47: 2 | E47: 3 | F47: 4 | G47: 5
B48: We have at least one strategy in place to build strategic alliances or partners to support our growth | C48: 1 | D48: 2 | E48: 3 | F48: 4 | G48: 5
...

Sheet Report_Graph
A1: Report & Graph
A4: Areas of Success | C4: % | D4: Score | E4: Weight % | F4: Total
A5: 1 | B5: Planning | C5: =D5/(9*5) -> 0 | D5: =SUM('Checklist'!C23) -> 0 | E5: 0.1 | F5: =C5*E5 -> 0
A6: 2 | B6: Products | C6: =D6/(11*5) -> 0 | D6: =SUM('Checklist'!C36) -> 0 | E6: 0.1 | F6: =C6*E6 -> 0
A7: 3 | B7: Promotion | C7: =D7/(27*5) -> 0 | D7: =SUM('Checklist'!C65) -> 0 | E7: 0.2 | F7: =C7*E7 -> 0
A8: 4 | B8: Processes | C8: =D8/(20*5) -> 0 | D8: =SUM('Checklist'!C87) -> 0 | E8: 0.15 | F8: =C8*E8 -> 0
A9: 5 | B9: People | C9: =D9/(19*5) -> 0 | D9: =SUM('Checklist'!C108) -> 0 | E9: 0.15 | F9: =C9*E9 -> 0
A10: 6 | B10: Personal Development | C10: =D10/(17*5) -> 0 | D10: =SUM('Checklist'!C127) -> 0 | E10: 0.1 | F10: =C10*E10 -> 0
A11: 7 | B11: Profit | C11: =D11/(23*5) -> 0 | D11: =SUM('Checklist'!C152) -> 0 | E11: 0.2 | F11: =C11*E11 -> 0
A12: 8 | B12: Overall Score | C12: =SUM(C5:C11)/7 -> 0 | E12: =SUM(E5:E11) -> 1 | F12: =SUM(F5:F11) -> 0
